BEGIN:VCALENDAR
VERSION:2.0
PRODID:-//hacksw/handcal//NONSGML v1.0//EN
BEGIN:VEVENT
UID:tournoi13921@badiste.fr
DTSTAMP:20260421T150124Z
DTSTART;VALUE=DATE:20221101
DTEND;VALUE=DATE:20221103
DESCRIPTION: http://badiste.fr
LOCATION:Halle d'athlétisme Stéphane Diagana 4 Rue Victor Schoelcher  69009 Lyon
SUMMARY:1ER TOURNOI NATIONAL DU PETIT GUIGNOL ECOBAD LYON
END:VEVENT
END:VCALENDAR