BEGIN:VCALENDAR
VERSION:2.0
PRODID:-//hacksw/handcal//NONSGML v1.0//EN
BEGIN:VEVENT
UID:tournoi13986@badiste.fr
DTSTAMP:20260422T204755Z
DTSTART;VALUE=DATE:20221015
DTEND;VALUE=DATE:20221017
DESCRIPTION: http://badiste.fr
LOCATION:arcade 507-543 Av. du 11 Novembre, 38340 Voreppe  38340 38340 - VOREPPE
SUMMARY:BCV38
END:VEVENT
END:VCALENDAR