BEGIN:VCALENDAR
VERSION:2.0
PRODID:-//hacksw/handcal//NONSGML v1.0//EN
BEGIN:VEVENT
UID:tournoi13998@badiste.fr
DTSTAMP:20260421T150049Z
DTSTART;VALUE=DATE:20221001
DTEND;VALUE=DATE:20221003
DESCRIPTION: http://badiste.fr
LOCATION:Gymnase Ferber 19 rue du Bourbonnais  69009 Lyon
SUMMARY:5 STAGES DE BAD A LYON : ADOS / ADULTES - OCTOBRE-
END:VEVENT
END:VCALENDAR