BEGIN:VCALENDAR
VERSION:2.0
PRODID:-//hacksw/handcal//NONSGML v1.0//EN
BEGIN:VEVENT
UID:tournoi14009@badiste.fr
DTSTAMP:20260421T145942Z
DTSTART;VALUE=DATE:20221119
DTEND;VALUE=DATE:20221121
DESCRIPTION: http://badiste.fr
LOCATION:Gymnase Ferber 19 rue du Bourbonnais  6909 Lyon
SUMMARY:5 STAGES DE BAD A LYON : ADOS / ADULTES - NOVEMBRE
END:VEVENT
END:VCALENDAR