BEGIN:VCALENDAR
VERSION:2.0
PRODID:-//hacksw/handcal//NONSGML v1.0//EN
BEGIN:VEVENT
UID:tournoi14025@badiste.fr
DTSTAMP:20260420T094136Z
DTSTART;VALUE=DATE:20221016
DTEND;VALUE=DATE:20221017
DESCRIPTION: http://badiste.fr
LOCATION:LE COSEC Avenue de Traunstein  05000 Gap
SUMMARY:CDA  (comité 05)
END:VEVENT
END:VCALENDAR