BEGIN:VCALENDAR
VERSION:2.0
PRODID:-//hacksw/handcal//NONSGML v1.0//EN
BEGIN:VEVENT
UID:tournoi14040@badiste.fr
DTSTAMP:20260422T220135Z
DTSTART;VALUE=DATE:20221119
DTEND;VALUE=DATE:20221120
DESCRIPTION: http://badiste.fr
LOCATION:La Chênaie Allée du Parc  06370 Mouans-Sartoux
SUMMARY:Plateau Mini-Bad
END:VEVENT
END:VCALENDAR