BEGIN:VCALENDAR
VERSION:2.0
PRODID:-//hacksw/handcal//NONSGML v1.0//EN
BEGIN:VEVENT
UID:tournoi14051@badiste.fr
DTSTAMP:20260422T220135Z
DTSTART;VALUE=DATE:20230326
DTEND;VALUE=DATE:20230327
DESCRIPTION: http://badiste.fr
LOCATION:Canteperdrix Av. de la Victoire du 8 Mai 1945  06130 Grasse
SUMMARY:Championnats Départementaux Adultes - Mixte
END:VEVENT
END:VCALENDAR