BEGIN:VCALENDAR
VERSION:2.0
PRODID:-//hacksw/handcal//NONSGML v1.0//EN
BEGIN:VEVENT
UID:tournoi14060@badiste.fr
DTSTAMP:20260422T221511Z
DTSTART;VALUE=DATE:20230514
DTEND;VALUE=DATE:20230515
DESCRIPTION: http://badiste.fr
LOCATION:Colette Besson 40 Chemin des Canebiers  06800 Cagnes sur Mer
SUMMARY:Championnats Départementaux Adultes - Simple
END:VEVENT
END:VCALENDAR