BEGIN:VCALENDAR
VERSION:2.0
PRODID:-//hacksw/handcal//NONSGML v1.0//EN
BEGIN:VEVENT
UID:tournoi14061@badiste.fr
DTSTAMP:20260424T120740Z
DTSTART;VALUE=DATE:20230701
DTEND;VALUE=DATE:20230703
DESCRIPTION: http://badiste.fr
LOCATION:   17200 Royan
SUMMARY:6eme Tournoi de la côte de Beauté
END:VEVENT
END:VCALENDAR