BEGIN:VCALENDAR
VERSION:2.0
PRODID:-//hacksw/handcal//NONSGML v1.0//EN
BEGIN:VEVENT
UID:tournoi14067@badiste.fr
DTSTAMP:20260420T093011Z
DTSTART;VALUE=DATE:20230610
DTEND;VALUE=DATE:20230612
DESCRIPTION: http://badiste.fr
LOCATION:complexe JC Lafaille Avenue du Commandant Dumont  05000 Gap
SUMMARY:21° Volant des Alpes
END:VEVENT
END:VCALENDAR