BEGIN:VCALENDAR
VERSION:2.0
PRODID:-//hacksw/handcal//NONSGML v1.0//EN
BEGIN:VEVENT
UID:tournoi14145@badiste.fr
DTSTAMP:20260421T144305Z
DTSTART;VALUE=DATE:20221024
DTEND;VALUE=DATE:20221028
DESCRIPTION: http://badiste.fr
LOCATION:Gymnase Ferber 19 rue du Bourbonnais  69009 Lyon
SUMMARY:STAGE JEUNES - TOUSSAINT - A LYON
END:VEVENT
END:VCALENDAR