BEGIN:VCALENDAR
VERSION:2.0
PRODID:-//hacksw/handcal//NONSGML v1.0//EN
BEGIN:VEVENT
UID:tournoi14236@badiste.fr
DTSTAMP:20260421T232714Z
DTSTART;VALUE=DATE:20221025
DTEND;VALUE=DATE:20221027
DESCRIPTION: http://badiste.fr
LOCATION:Pierre de Coubertin rue Salvator Allende  33400 Talence
SUMMARY:Stage Jeune de la Toussaint
END:VEVENT
END:VCALENDAR