BEGIN:VCALENDAR
VERSION:2.0
PRODID:-//hacksw/handcal//NONSGML v1.0//EN
BEGIN:VEVENT
UID:tournoi14238@badiste.fr
DTSTAMP:20260421T232714Z
DTSTART;VALUE=DATE:20221119
DTEND;VALUE=DATE:20221120
DESCRIPTION: http://badiste.fr
LOCATION:CREPS de Talence 653 Cr de la Libération  33400 Talence
SUMMARY:Tournoi Jeunes et véterans de US Talence Badminton
END:VEVENT
END:VCALENDAR