BEGIN:VCALENDAR
VERSION:2.0
PRODID:-//hacksw/handcal//NONSGML v1.0//EN
BEGIN:VEVENT
UID:tournoi14252@badiste.fr
DTSTAMP:20260421T165733Z
DTSTART;VALUE=DATE:20221031
DTEND;VALUE=DATE:20221104
DESCRIPTION: http://badiste.fr
LOCATION:C. Besson Chemin des Canebiers  06800 Cagnes-sur-Mer
SUMMARY:Stage Toussaint
END:VEVENT
END:VCALENDAR