BEGIN:VCALENDAR
VERSION:2.0
PRODID:-//hacksw/handcal//NONSGML v1.0//EN
BEGIN:VEVENT
UID:tournoi14254@badiste.fr
DTSTAMP:20260421T154342Z
DTSTART;VALUE=DATE:20230213
DTEND;VALUE=DATE:20230218
DESCRIPTION: http://badiste.fr
LOCATION:C. Besson Chemin des Canebiers  06800 Cagnes-sur-Mer
SUMMARY:Stage Hiver Annulé
END:VEVENT
END:VCALENDAR