BEGIN:VCALENDAR
VERSION:2.0
PRODID:-//hacksw/handcal//NONSGML v1.0//EN
BEGIN:VEVENT
UID:tournoi14349@badiste.fr
DTSTAMP:20260420T025928Z
DTSTART;VALUE=DATE:20230304
DTEND;VALUE=DATE:20230306
DESCRIPTION: http://badiste.fr
LOCATION:Cercle Marcel Brunot 110 rue du 4 août 1789  69100 Villeurbanne
SUMMARY:12ème Tournoi du Bad'Pitt - GSL
END:VEVENT
END:VCALENDAR