BEGIN:VCALENDAR
VERSION:2.0
PRODID:-//hacksw/handcal//NONSGML v1.0//EN
BEGIN:VEVENT
UID:tournoi14450@badiste.fr
DTSTAMP:20260421T150119Z
DTSTART;VALUE=DATE:20230821
DTEND;VALUE=DATE:20230826
DESCRIPTION: http://badiste.fr
LOCATION:Gymnase Ferber 19 rue du Bourbonnais  69009 Lyon
SUMMARY:STAGE D'ÉTÉ 2023 A LYON - JEUNES / ADULTES -
END:VEVENT
END:VCALENDAR