BEGIN:VCALENDAR
VERSION:2.0
PRODID:-//hacksw/handcal//NONSGML v1.0//EN
BEGIN:VEVENT
UID:tournoi14452@badiste.fr
DTSTAMP:20260421T150006Z
DTSTART;VALUE=DATE:20230206
DTEND;VALUE=DATE:20230211
DESCRIPTION: http://badiste.fr
LOCATION:Gymnase Ferber 19 rue du Bourbonnais  69009 Lyon
SUMMARY:STAGE - JEUNES - LYON - FÉVRIER 2023
END:VEVENT
END:VCALENDAR