BEGIN:VCALENDAR
VERSION:2.0
PRODID:-//hacksw/handcal//NONSGML v1.0//EN
BEGIN:VEVENT
UID:tournoi14486@badiste.fr
DTSTAMP:20260421T201759Z
DTSTART;VALUE=DATE:20230207
DTEND;VALUE=DATE:20230209
DESCRIPTION: http://badiste.fr
LOCATION:Pierre de Coubertin Rue Salvador Allende  33400 Talence
SUMMARY:Stage jeune d'hiver
END:VEVENT
END:VCALENDAR