BEGIN:VCALENDAR
VERSION:2.0
PRODID:-//hacksw/handcal//NONSGML v1.0//EN
BEGIN:VEVENT
UID:tournoi14507@badiste.fr
DTSTAMP:20260421T201835Z
DTSTART;VALUE=DATE:20230429
DTEND;VALUE=DATE:20230501
DESCRIPTION: http://badiste.fr
LOCATION:complexe les 2 vallées 1 ROUTE DE LA CHATRE  23270 Ladapeyre
SUMMARY:tournoi des 2 vallées
END:VEVENT
END:VCALENDAR