BEGIN:VCALENDAR
VERSION:2.0
PRODID:-//hacksw/handcal//NONSGML v1.0//EN
BEGIN:VEVENT
UID:tournoi14509@badiste.fr
DTSTAMP:20260421T201835Z
DTSTART;VALUE=DATE:20230304
DTEND;VALUE=DATE:20230305
DESCRIPTION: http://badiste.fr
LOCATION:Gymnase du verger 45 rue du stade  83140 Six Fours
SUMMARY:Trophée Départemental Jeunes 3
END:VEVENT
END:VCALENDAR