BEGIN:VCALENDAR
VERSION:2.0
PRODID:-//hacksw/handcal//NONSGML v1.0//EN
BEGIN:VEVENT
UID:tournoi14541@badiste.fr
DTSTAMP:20260423T124222Z
DTSTART;VALUE=DATE:20230318
DTEND;VALUE=DATE:20230319
DESCRIPTION: http://badiste.fr
LOCATION:Gymnase de Guîtres Chemin Charlemagne  33230 Guîtres
SUMMARY:TOURNOI DE DOUBLE SENIORS
END:VEVENT
END:VCALENDAR