BEGIN:VCALENDAR
VERSION:2.0
PRODID:-//hacksw/handcal//NONSGML v1.0//EN
BEGIN:VEVENT
UID:tournoi14568@badiste.fr
DTSTAMP:20260421T232633Z
DTSTART;VALUE=DATE:20230513
DTEND;VALUE=DATE:20230515
DESCRIPTION: http://badiste.fr
LOCATION:Halle universitaire Talence + Creps Talence 2 All. Pierre de Coubertin, 33400 Talence  33400 Talence
SUMMARY:Tournoi Senior International de Talence 2023
END:VEVENT
END:VCALENDAR