BEGIN:VCALENDAR
VERSION:2.0
PRODID:-//hacksw/handcal//NONSGML v1.0//EN
BEGIN:VEVENT
UID:tournoi14632@badiste.fr
DTSTAMP:20260421T232633Z
DTSTART;VALUE=DATE:20230411
DTEND;VALUE=DATE:20230413
DESCRIPTION: http://badiste.fr
LOCATION:Boris Diaw 11 Rue de la Renaissance, 33400 Talence  33400 Talence
SUMMARY:Stage de Pâques
END:VEVENT
END:VCALENDAR