BEGIN:VCALENDAR
VERSION:2.0
PRODID:-//hacksw/handcal//NONSGML v1.0//EN
BEGIN:VEVENT
UID:tournoi14656@badiste.fr
DTSTAMP:20260425T161450Z
DTSTART;VALUE=DATE:20230708
DTEND;VALUE=DATE:20230710
DESCRIPTION: http://badiste.fr
LOCATION:Gymnase La Saulaie   38160 St-Marcellin
SUMMARY:6ème tournoi par équipe
END:VEVENT
END:VCALENDAR