BEGIN:VCALENDAR
VERSION:2.0
PRODID:-//hacksw/handcal//NONSGML v1.0//EN
BEGIN:VEVENT
UID:tournoi14671@badiste.fr
DTSTAMP:20260422T103105Z
DTSTART;VALUE=DATE:20230517
DTEND;VALUE=DATE:20230518
DESCRIPTION: http://badiste.fr
LOCATION:Complexe Sportif Donadieu Rue de la Harpe  13800 Istres
SUMMARY:1er Tournoi Nocturne d'Istres Sports Badminton
END:VEVENT
END:VCALENDAR