BEGIN:VCALENDAR
VERSION:2.0
PRODID:-//hacksw/handcal//NONSGML v1.0//EN
BEGIN:VEVENT
UID:tournoi14674@badiste.fr
DTSTAMP:20260421T154331Z
DTSTART;VALUE=DATE:20230610
DTEND;VALUE=DATE:20230612
DESCRIPTION: http://badiste.fr
LOCATION:Pierre Sauvaigo 20 ave Marcel Pagnol  06800 Cagnes-sur-Mer
SUMMARY:CRJO SUD-PACA 6
END:VEVENT
END:VCALENDAR