BEGIN:VCALENDAR
VERSION:2.0
PRODID:-//hacksw/handcal//NONSGML v1.0//EN
BEGIN:VEVENT
UID:tournoi14694@badiste.fr
DTSTAMP:20260421T150006Z
DTSTART;VALUE=DATE:20231031
DTEND;VALUE=DATE:20231101
DESCRIPTION: http://badiste.fr
LOCATION:Gymnase Ferber 19 rue du Bourbonnais  69009 Lyon
SUMMARY:FLASH BAD'S N°8 DE LYON - DOUBLE HOMME -
END:VEVENT
END:VCALENDAR