BEGIN:VCALENDAR
VERSION:2.0
PRODID:-//hacksw/handcal//NONSGML v1.0//EN
BEGIN:VEVENT
UID:tournoi14699@badiste.fr
DTSTAMP:20260421T145528Z
DTSTART;VALUE=DATE:20240423
DTEND;VALUE=DATE:20240424
DESCRIPTION: http://badiste.fr
LOCATION:Gymnase Ferber 19 rue du Bourbonnais  69009 Lyon
SUMMARY:FLASH BAD'S N°12 DE LYON - DOUBLE MIXTE -
END:VEVENT
END:VCALENDAR