BEGIN:VCALENDAR
VERSION:2.0
PRODID:-//hacksw/handcal//NONSGML v1.0//EN
BEGIN:VEVENT
UID:tournoi14717@badiste.fr
DTSTAMP:20260421T154331Z
DTSTART;VALUE=DATE:20230828
DTEND;VALUE=DATE:20230902
DESCRIPTION: http://badiste.fr
LOCATION:BESSON/SAUVAIGO   06800 Cagnes-sur-Mer
SUMMARY:STAGE DE RENTREE
END:VEVENT
END:VCALENDAR