BEGIN:VCALENDAR
VERSION:2.0
PRODID:-//hacksw/handcal//NONSGML v1.0//EN
BEGIN:VEVENT
UID:tournoi14830@badiste.fr
DTSTAMP:20260421T154234Z
DTSTART;VALUE=DATE:20231104
DTEND;VALUE=DATE:20231106
DESCRIPTION: http://badiste.fr
LOCATION:C. BESSON CHEMIN DES CANEBIERS  06800 Cagnes-sur-Mer
SUMMARY:Tournoi des Dauphins VII
END:VEVENT
END:VCALENDAR