BEGIN:VCALENDAR
VERSION:2.0
PRODID:-//hacksw/handcal//NONSGML v1.0//EN
BEGIN:VEVENT
UID:tournoi14869@badiste.fr
DTSTAMP:20260421T154234Z
DTSTART;VALUE=DATE:20231023
DTEND;VALUE=DATE:20231028
DESCRIPTION: http://badiste.fr
LOCATION:C.Besson   06800 CAGNES-SUR-MER
SUMMARY:Stage de la Toussaint
END:VEVENT
END:VCALENDAR