BEGIN:VCALENDAR
VERSION:2.0
PRODID:-//hacksw/handcal//NONSGML v1.0//EN
BEGIN:VEVENT
UID:tournoi14876@badiste.fr
DTSTAMP:20260421T165733Z
DTSTART;VALUE=DATE:20240429
DTEND;VALUE=DATE:20240503
DESCRIPTION: http://badiste.fr
LOCATION:C. Besson   06800 CAGNES-SUR-MER
SUMMARY:Stage de Printemps à Cagnes sur Mer
END:VEVENT
END:VCALENDAR