BEGIN:VCALENDAR
VERSION:2.0
PRODID:-//hacksw/handcal//NONSGML v1.0//EN
BEGIN:VEVENT
UID:tournoi14880@badiste.fr
DTSTAMP:20260421T154331Z
DTSTART;VALUE=DATE:20231209
DTEND;VALUE=DATE:20231211
DESCRIPTION: http://badiste.fr
LOCATION:C. Besson Chemin des Canebiers  06800 CAGNES-SUR-MER
SUMMARY:CHRS
END:VEVENT
END:VCALENDAR