BEGIN:VCALENDAR
VERSION:2.0
PRODID:-//hacksw/handcal//NONSGML v1.0//EN
BEGIN:VEVENT
UID:tournoi14891@badiste.fr
DTSTAMP:20260421T154342Z
DTSTART;VALUE=DATE:20231208
DTEND;VALUE=DATE:20231209
DESCRIPTION: http://badiste.fr
LOCATION:Joseph Pagnol 95 Rue Albert Camus  06700 SAINT-LAURENT-DU-VAR
SUMMARY:Nuit des Bad'lympics
END:VEVENT
END:VCALENDAR