BEGIN:VCALENDAR
VERSION:2.0
PRODID:-//hacksw/handcal//NONSGML v1.0//EN
BEGIN:VEVENT
UID:tournoi14943@badiste.fr
DTSTAMP:20260421T152116Z
DTSTART;VALUE=DATE:20240217
DTEND;VALUE=DATE:20240218
DESCRIPTION: http://badiste.fr
LOCATION:SALLE BEQUE FORT CASAL Montée du Rédier 06670 COLOMARS
SUMMARY:MINI-STAGE GIRL POWER
END:VEVENT
END:VCALENDAR