BEGIN:VCALENDAR
VERSION:2.0
PRODID:-//hacksw/handcal//NONSGML v1.0//EN
BEGIN:VEVENT
UID:tournoi14987@badiste.fr
DTSTAMP:20260421T152115Z
DTSTART;VALUE=DATE:20240323
DTEND;VALUE=DATE:20240324
DESCRIPTION: http://badiste.fr
LOCATION:SALLE BEQUE _ FORT CASAL Montée du Rédier  06670 COLOMARS
SUMMARY:BEST AT 2
END:VEVENT
END:VCALENDAR