BEGIN:VCALENDAR
VERSION:2.0
PRODID:-//hacksw/handcal//NONSGML v1.0//EN
BEGIN:VEVENT
UID:tournoi15045@badiste.fr
DTSTAMP:20260422T221109Z
DTSTART;VALUE=DATE:20241207
DTEND;VALUE=DATE:20241208
DESCRIPTION: http://badiste.fr
LOCATION:à venir   - -
SUMMARY:Trophée Départemental Jeunes 5 - Simple et Double
END:VEVENT
END:VCALENDAR