BEGIN:VCALENDAR
VERSION:2.0
PRODID:-//hacksw/handcal//NONSGML v1.0//EN
BEGIN:VEVENT
UID:tournoi15047@badiste.fr
DTSTAMP:20260421T154331Z
DTSTART;VALUE=DATE:20241102
DTEND;VALUE=DATE:20241104
DESCRIPTION: http://badiste.fr
LOCATION:C. BESSON CHEMIN DES CANEBIERS  06800 CAGNES-SUR-MER
SUMMARY:8ème Tournoi des Dauphins
END:VEVENT
END:VCALENDAR