BEGIN:VCALENDAR
VERSION:2.0
PRODID:-//hacksw/handcal//NONSGML v1.0//EN
BEGIN:VEVENT
UID:tournoi15048@badiste.fr
DTSTAMP:20260421T165734Z
DTSTART;VALUE=DATE:20221101
DTEND;VALUE=DATE:20221103
DESCRIPTION: http://badiste.fr
LOCATION:   06800 CAGNES-SUR-MER
SUMMARY:test
END:VEVENT
END:VCALENDAR