BEGIN:VCALENDAR
VERSION:2.0
PRODID:-//hacksw/handcal//NONSGML v1.0//EN
BEGIN:VEVENT
UID:tournoi15069@badiste.fr
DTSTAMP:20260421T154332Z
DTSTART;VALUE=DATE:20250217
DTEND;VALUE=DATE:20250222
DESCRIPTION: http://badiste.fr
LOCATION:C. BESSON   06800 CAGNES-SUR-MER
SUMMARY:Stage d'Hiver Cagnes sur Mer
END:VEVENT
END:VCALENDAR