BEGIN:VCALENDAR
VERSION:2.0
PRODID:-//hacksw/handcal//NONSGML v1.0//EN
BEGIN:VEVENT
UID:tournoi15088@badiste.fr
DTSTAMP:20260421T152115Z
DTSTART;VALUE=DATE:20250301
DTEND;VALUE=DATE:20250302
DESCRIPTION: http://badiste.fr
LOCATION:SALLE BEQUE _ FORT CASAL Montée du Rédier  06670 COLOMARS
SUMMARY:GIRL POWER #2
END:VEVENT
END:VCALENDAR