BEGIN:VCALENDAR
VERSION:2.0
PRODID:-//hacksw/handcal//NONSGML v1.0//EN
BEGIN:VEVENT
UID:tournoi15096@badiste.fr
DTSTAMP:20260421T135007Z
DTSTART;VALUE=DATE:20251020
DTEND;VALUE=DATE:20251025
DESCRIPTION: http://badiste.fr
LOCATION:C. BESSON   06800 CAGNES-SUR-MER
SUMMARY:Stage de la Toussaint
END:VEVENT
END:VCALENDAR