BEGIN:VCALENDAR
VERSION:2.0
PRODID:-//hacksw/handcal//NONSGML v1.0//EN
BEGIN:VEVENT
UID:tournoi15098@badiste.fr
DTSTAMP:20260421T152116Z
DTSTART;VALUE=DATE:20251129
DTEND;VALUE=DATE:20251130
DESCRIPTION: http://badiste.fr
LOCATION:SALLE BEQUE _ FORT CASAL Montée du Rédier  06670 COLOMARS
SUMMARY:MEN POWER#1
END:VEVENT
END:VCALENDAR