BEGIN:VCALENDAR
VERSION:2.0
PRODID:-//hacksw/handcal//NONSGML v1.0//EN
BEGIN:VEVENT
UID:tournoi15099@badiste.fr
DTSTAMP:20260421T154233Z
DTSTART;VALUE=DATE:20260223
DTEND;VALUE=DATE:20260226
DESCRIPTION: http://badiste.fr
LOCATION:la Fontonne 2 chemin des freres Garbero  06600 ANTIBES
SUMMARY:stage jeune d'hiver
END:VEVENT
END:VCALENDAR