BEGIN:VCALENDAR
VERSION:2.0
PRODID:-//hacksw/handcal//NONSGML v1.0//EN
BEGIN:VEVENT
UID:tournoi15103@badiste.fr
DTSTAMP:20260421T154331Z
DTSTART;VALUE=DATE:20260223
DTEND;VALUE=DATE:20260228
DESCRIPTION: http://badiste.fr
LOCATION:C. BESSON   06800 CAGNES-SUR-MER
SUMMARY:Stage hiver Cagnes sur Mer
END:VEVENT
END:VCALENDAR